BEGIN:VCALENDAR
VERSION:2.0
PRODID:-//Factio Magazine - ECPv4.9.14//NONSGML v1.0//EN
CALSCALE:GREGORIAN
METHOD:PUBLISH
X-WR-CALNAME:Factio Magazine
X-ORIGINAL-URL:http://factio-magazine.com
X-WR-CALDESC:Events for Factio Magazine
BEGIN:VTIMEZONE
TZID:America/Chicago
BEGIN:DAYLIGHT
TZOFFSETFROM:-0600
TZOFFSETTO:-0500
TZNAME:CDT
DTSTART:20140309T080000
END:DAYLIGHT
BEGIN:STANDARD
TZOFFSETFROM:-0500
TZOFFSETTO:-0600
TZNAME:CST
DTSTART:20141102T070000
END:STANDARD
END:VTIMEZONE
BEGIN:VEVENT
DTSTART;TZID=America/Chicago:20140921T130000
DTEND;TZID=America/Chicago:20140921T170000
DTSTAMP:20260421T084254
CREATED:20140826T010720Z
LAST-MODIFIED:20140826T011007Z
UID:5847-1411304400-1411318800@factio-magazine.com
SUMMARY:You're invited! Primo Classico Br'Italia on Sept. 21st
DESCRIPTION:\nIf you are having trouble reading this\, you may view the online version\n\n\n\n\n\n\n\n\n\nPrimo Classico d’Europa\na celebration of European cars\, food and fashion \nSunday\, Sep 21\, 2014 | 1:00-5:00\nHeld at Lake Forest Sportscars in Lake Bluff Illinois \nCheers! Salute! Zum Wohl! Diane and Quintin Primo invite you to attend Primo Classico d’Europa\, the 3rd Annual RedHot Classico Event. Come experience a spectacular afternoon that pays homage to the finest offerings from the iconic cultures of Europe. \nFor one remarkable afternoon\, celebrate fast cars\, fabulous food and fierce fashion with a showcase of vintage and new automobiles\, epicurean delights and a cutting-edge couture presentation. \nExperience the thrills of a collection of privately owned vintage models from Ferrari\, Aston Martin\, Lamborghini\, Rolls Royce\, Bentley\, Porsche and other legendary European automobiles. View gorgeous European fashions from Neiman Marcus modeled by some of Chicago’s most striking models. Indulge in delectable tasting plates contributed and presented by some of Chicago’s top restaurants. Bid on exquisite one-of-a-kind experiences during our spectacular live auction\, all to the thematic sounds of DJ Madrid. \nDress to impress: European Flair \n2014 Man of Vision Honoree\nJimmy Connors\nAward-Winning Professional Tennis Legend \n2014 Woman of Vision Honoree\nKate Gaynor-Dickey\nChicago Businesswoman and Philanthropist \nMusical Entertainment\nDJ Madrid\nWorld Renowned Multi-Faceted Virtuoso \nTickets\nAston Martin V8 Vantage Table Partner – $10\,000 Per Table\n(10 guests per table)\nIncludes:\nReserved table with two complimentary bottles of chilled champagne\nSpecial access to VIP lounge\nSpecial gift bag \nMercedes-Benz SLR McLaren Partner – $1\,000 Per Ticket\nIncludes:\nReserved seat at a VIP table with chilled champagne\nSpecial access to VIP lounge\nSpecial gift bag \nFerrari Testarossa Partner – $500 Per Ticket\nIncludes general admission to event \nPlease purchase tickets by September 15\, 2014 \n\n\n\n
URL:http://factio-magazine.com/event/youre-invited-primo-classico-britalia-sept-21/
LOCATION:Lake Forest Sports Cars\, 	990 N Shore Dr.\, Lake Bluff\, IL\, 60044
END:VEVENT
END:VCALENDAR