BEGIN:VCALENDAR
VERSION:2.0
PRODID:-//Factio Magazine - ECPv4.9.14//NONSGML v1.0//EN
CALSCALE:GREGORIAN
METHOD:PUBLISH
X-WR-CALNAME:Factio Magazine
X-ORIGINAL-URL:http://factio-magazine.com
X-WR-CALDESC:Events for Factio Magazine
BEGIN:VTIMEZONE
TZID:America/Chicago
BEGIN:DAYLIGHT
TZOFFSETFROM:-0600
TZOFFSETTO:-0500
TZNAME:CDT
DTSTART:20180311T080000
END:DAYLIGHT
BEGIN:STANDARD
TZOFFSETFROM:-0500
TZOFFSETTO:-0600
TZNAME:CST
DTSTART:20181104T070000
END:STANDARD
END:VTIMEZONE
BEGIN:VEVENT
DTSTART;TZID=America/Chicago:20181103T120000
DTEND;TZID=America/Chicago:20181103T120000
DTSTAMP:20260421T180034
CREATED:20181025T180612Z
LAST-MODIFIED:20181025T180625Z
UID:11840-1541246400-1541246400@factio-magazine.com
SUMMARY:111th Annual Great Tree Lighting With Macy's Featuring Angelica Hale
DESCRIPTION:  \nWhat: An iconic holiday tradition in Chicago\, Macy’s Great Tree Lighting will take place on Saturday\, November 3rd at Noon. This year marks the 111th lighting of the Great Tree with special guest\, Angelica Hale. The Great Tree measures 45-feet-tall and hangs from the ceiling of the beloved Walnut Room at Macy’s on State Street in downtown Chicago. With over 2\,000 ornaments and 6\,600 sparkling lights\, it has been a centerpiece of the holiday season for 111 years. \nWho: Angelica Hale is an 11-year-old singer from Atlanta\, GA\, who competed in season 12 of NBC’s “America’s Got Talent” in 2017\, received Chris Hardwick’s Golden Buzzer\, and finished as the youngest runner-up in the show’s history.  She was a featured performer in the 91st Macy’s Thanksgiving Day parade in 2017 and has appeared on Little Big Shots\, the Today Show\, and many others.  She performs at concerts\, shows\, corporate events\, sporting events\, and galas all over the world and enjoys spending time in the studio where she is currently working on her debut album. \nAngelica is also an actress and voice-over artist having made her feature film debut in 2018 and having voiced characters in a couple upcoming animated series.  Having overcome a life-threatening illness when she was only 4 years old that resulted in her fighting sepsis and needing a kidney transplant when she was just 6 years old\, Angelica loves to give back and support organizations that help children that may be going through something similar.  In this respect\, she is currently the first kid ambassador for the National Kidney Foundation and celebrity advocate for both the Sepsis Alliance and Children’s Miracle Network Hospitals. \n When: Saturday\, November 3\, 2018\, at Noon \nWhere: Macy’s on State Street\, 7th Floor\, Walnut Room\, 111 N. State Street\, Chicago 60602 \n
URL:http://factio-magazine.com/event/111th-annual-great-tree-lighting-macys-featuring-angelica-hale/
ATTACH;FMTTYPE=image/jpeg:http://factio-magazine.com/wp-content/uploads/2018/10/1539102906_tree-lightings.jpg
END:VEVENT
END:VCALENDAR